BEGIN:VCALENDAR
VERSION:2.0
PRODID:-//Osun River Ritual - ECPv6.15.20//NONSGML v1.0//EN
CALSCALE:GREGORIAN
METHOD:PUBLISH
X-ORIGINAL-URL:https://osunriverritual.uk
X-WR-CALDESC:Events for Osun River Ritual
REFRESH-INTERVAL;VALUE=DURATION:PT1H
X-Robots-Tag:noindex
X-PUBLISHED-TTL:PT1H
BEGIN:VTIMEZONE
TZID:UTC
BEGIN:STANDARD
TZOFFSETFROM:+0000
TZOFFSETTO:+0000
TZNAME:UTC
DTSTART:20220101T000000
END:STANDARD
END:VTIMEZONE
BEGIN:VEVENT
DTSTART;TZID=UTC:20230527T080000
DTEND;TZID=UTC:20230527T170000
DTSTAMP:20260424T211150
CREATED:20230713T194732Z
LAST-MODIFIED:20230714T113640Z
UID:388-1685174400-1685206800@osunriverritual.uk
SUMMARY:RIVER CLEAN UP & RITUAL 2023
DESCRIPTION:For London Rivers Week 2023\, join us to honour the river deity\, Mama Osun\, with a clean-up and collective offering to her sacred waters. \nWe enjoyed it so much last year that the Annual Osun River Ritual organisers and Thames21 are again inviting you to this special tribute to the river goddess Mama Osun. This event is part of the celebration for London Rivers Week. \n \n\n 
URL:https://osunriverritual.uk/event/river-clean-up-ritual-2023/
CATEGORIES:Annual
ATTACH;FMTTYPE=image/jpeg:https://osunriverritual.uk/wp-content/uploads/2023/07/e3b416_09290ceef6c449dab9f35b9a6756c4a1mv2_2.jpg
ORGANIZER;CN="Osun River Ritual committee":MAILTO:info@osunriverritual.uk
END:VEVENT
END:VCALENDAR